BEGIN:VCALENDAR
VERSION:2.0
PRODID:-//Your Organization//NONSGML v1.0//EN
BEGIN:VEVENT
UID:69ecefb01fd5e@www.britishgeotech.org
DTSTAMP:20260425T164536Z
DTSTART:20220904T080000
DTEND:20220904T170000
SUMMARY:11th International Symposium on Field Monitoring in Geomechanics (ISFMG)
DESCRIPTION:
LOCATION:Imperial College London
END:VEVENT
END:VCALENDAR