BEGIN:VCALENDAR
VERSION:2.0
PRODID:-//Your Organization//NONSGML v1.0//EN
BEGIN:VEVENT
UID:69e738c7b45e5@www.britishgeotech.org
DTSTAMP:20260421T084351Z
DTSTART:20211116T183000
DTEND:20211116T194500
SUMMARY:2021 Géotechnique Lecture &#8211; Performance-Based Design of Propped Retaining Walls
DESCRIPTION:
LOCATION:Telford Lecture Theatre\\, Institution of Civil Engineers\\, One Great George Street\\, London\\, SW1P 3AA
END:VEVENT
END:VCALENDAR