BEGIN:VCALENDAR
VERSION:2.0
PRODID:-//Your Organization//NONSGML v1.0//EN
BEGIN:VEVENT
UID:69e6f8f96aa6e@www.britishgeotech.org
DTSTAMP:20260421T041137Z
DTSTART:20200318T173000
DTEND:20200318T193000
SUMMARY:60th Rankine Lecture &#8211; Postponed
DESCRIPTION:
LOCATION:The Great Hall\\, Sherfield Building\\, Imperial College London\\, Exhibition Road\\, SW7 2AZ
END:VEVENT
END:VCALENDAR