BEGIN:VCALENDAR
VERSION:2.0
PRODID:-//Your Organization//NONSGML v1.0//EN
BEGIN:VEVENT
UID:69e8472d8b5b5@www.britishgeotech.org
DTSTAMP:20260422T035733Z
DTSTART:20201104T160000
DTEND:20201104T180000
SUMMARY:BGA AGM and Lecture on Hinkley Point C Earthworks Slope Protection
DESCRIPTION:
LOCATION:On-line event
END:VEVENT
END:VCALENDAR