BEGIN:VCALENDAR
VERSION:2.0
PRODID:-//Your Organization//NONSGML v1.0//EN
BEGIN:VEVENT
UID:69ebc1544cf65@www.britishgeotech.org
DTSTAMP:20260424T191532Z
DTSTART:20230621T090000
DTEND:20230621T173000
SUMMARY:BGA Annual Conference 2023 and AGM
DESCRIPTION:
LOCATION:Telford Lecture Theatre\\, Institution of Civil Engineers\\, One Great George Street\\, London SW1P 3AA
END:VEVENT
END:VCALENDAR