BEGIN:VCALENDAR
VERSION:2.0
PRODID:-//Your Organization//NONSGML v1.0//EN
BEGIN:VEVENT
UID:69e6f9122b321@www.britishgeotech.org
DTSTAMP:20260421T041202Z
DTSTART:20240612T090000
DTEND:20240612T173000
SUMMARY:BGA Annual Conference 2024 and AGM
DESCRIPTION:
LOCATION:Telford Lecture Theatre\\, Institution of Civil Engineers\\, One Great George Street\\, London SW1P 3AA
END:VEVENT
END:VCALENDAR