BEGIN:VCALENDAR
VERSION:2.0
PRODID:-//Your Organization//NONSGML v1.0//EN
BEGIN:VEVENT
UID:69e737aa1a0b4@www.britishgeotech.org
DTSTAMP:20260421T083906Z
DTSTART:20251118T183000
DTEND:20251118T200000
SUMMARY:BGA ECG 10th Session of MOGE Discussion Series: Principles of Design and Verification in Geotechnical Engineering &#038; Shallow Foundations
DESCRIPTION:
LOCATION:Institution of Civil Engineers\\, 1 Great George St\\, London SW1P 3AA
END:VEVENT
END:VCALENDAR