BEGIN:VCALENDAR
VERSION:2.0
PRODID:-//Your Organization//NONSGML v1.0//EN
BEGIN:VEVENT
UID:69e38aca559f2@www.britishgeotech.org
DTSTAMP:20260418T134442Z
DTSTART:20260217T180000
DTEND:20260217T193000
SUMMARY:Analogue and digital engineering in earthworks
DESCRIPTION:
LOCATION:Institution of Civil Engineers\\, One Great George Street\\, London SW1P 3AA
END:VEVENT
END:VCALENDAR