BEGIN:VCALENDAR
VERSION:2.0
PRODID:-//Your Organization//NONSGML v1.0//EN
BEGIN:VEVENT
UID:69e93a6031f48@www.britishgeotech.org
DTSTAMP:20260422T211512Z
DTSTART:20221206T183000
DTEND:20221206T203000
SUMMARY:BGA Fleming Award Event 2022
DESCRIPTION:
LOCATION:Telford Lecture Theatre\\, Institution of Civil Engineers\\, One Great George Street\\, London SW1P 3AA
END:VEVENT
END:VCALENDAR