BEGIN:VCALENDAR
VERSION:2.0
PRODID:-//Your Organization//NONSGML v1.0//EN
BEGIN:VEVENT
UID:69e9d8fa05138@www.britishgeotech.org
DTSTAMP:20260423T083154Z
DTSTART:20170321T180000
DTEND:20170321T200000
SUMMARY:Cooling Prize Competition
DESCRIPTION:
LOCATION:Newcastle University
END:VEVENT
END:VCALENDAR