BEGIN:VCALENDAR
VERSION:2.0
PRODID:-//Your Organization//NONSGML v1.0//EN
BEGIN:VEVENT
UID:69e9d5ac018ba@www.britishgeotech.org
DTSTAMP:20260423T081748Z
DTSTART:20250916T090000
DTEND:20250916T170000
SUMMARY:Earthworks 2025 &#8211; 4th Biennial BGA Conference
DESCRIPTION:
LOCATION:University of Birmingham
END:VEVENT
END:VCALENDAR