BEGIN:VCALENDAR
VERSION:2.0
PRODID:-//Your Organization//NONSGML v1.0//EN
BEGIN:VEVENT
UID:69e7383b315c0@www.britishgeotech.org
DTSTAMP:20260421T084131Z
DTSTART:20171018T170000
DTEND:20171018T190000
SUMMARY:Global Challenges, Geosynthetic Solutions and Counting Carbon
DESCRIPTION:
LOCATION:Institution of Civil Engineers
END:VEVENT
END:VCALENDAR