BEGIN:VCALENDAR
VERSION:2.0
PRODID:-//Your Organization//NONSGML v1.0//EN
BEGIN:VEVENT
UID:69e73877796bb@www.britishgeotech.org
DTSTAMP:20260421T084231Z
DTSTART:20230912T180000
DTEND:20230912T193000
SUMMARY:The 6th ISSMGE McClelland Lecture
DESCRIPTION:
LOCATION:The Great Hall\\, Sherfield Building\\, Imperial College London\\, Exhibition Road\\, SW7 2AZ
END:VEVENT
END:VCALENDAR