BEGIN:VCALENDAR
VERSION:2.0
PRODID:-//Your Organization//NONSGML v1.0//EN
BEGIN:VEVENT
UID:69e6c899c73d6@www.britishgeotech.org
DTSTAMP:20260421T004513Z
DTSTART:20250114T183000
DTEND:20250114T200000
SUMMARY:The application of DFN modelling in shaft sinking for the Woodsmith Project
DESCRIPTION:
LOCATION:Lecture Theatre A\\, School of Civil Engineering\\, University of Leeds\\, LS2 9JT
END:VEVENT
END:VCALENDAR