BEGIN:VCALENDAR
VERSION:2.0
PRODID:-//Your Organization//NONSGML v1.0//EN
BEGIN:VEVENT
UID:69e738dd478d3@www.britishgeotech.org
DTSTAMP:20260421T084413Z
DTSTART:20240924T180000
DTEND:20240924T193000
SUMMARY:Understanding the Behaviour of Geosynthetic Reinforced Pile Supported Embankments
DESCRIPTION:
LOCATION:Institution of Civil Engineers\\, One Great George Street\\, London SW1P 3AA
END:VEVENT
END:VCALENDAR