BEGIN:VCALENDAR
VERSION:2.0
PRODID:-//Your Organization//NONSGML v1.0//EN
BEGIN:VEVENT
UID:69e931438caa4@www.britishgeotech.org
DTSTAMP:20260422T203619Z
DTSTART:20220913T180000
DTEND:20220913T200000
SUMMARY:Yorkshire Geotechnical Group &#8211; A63 Castle Street Improvement
DESCRIPTION:
LOCATION:The Terrace\\, 3 Wellington Place\\, Leeds\\, LS1 4AP
END:VEVENT
END:VCALENDAR