BEGIN:VCALENDAR
VERSION:2.0
PRODID:-//Your Organization//NONSGML v1.0//EN
BEGIN:VEVENT
UID:69eb9a685d333@www.britishgeotech.org
DTSTAMP:20260424T162928Z
DTSTART:20230516T130000
DTEND:20230516T170000
SUMMARY:Yorkshire Geotechnical Group &#8211; Sustainability Seminar
DESCRIPTION:
LOCATION:The Terrace\\, 3 Wellington Place\\, Leeds\\, LS1 4AP
END:VEVENT
END:VCALENDAR